BEGIN:VCALENDAR
VERSION:2.0
BEGIN:VEVENT
URL:https://theespy.oztix.com.au/outlet/event/38c1cfaa-1ef2-4252-8c98-562ec356e57f
DTSTART:20260508T100000Z
DTEND:20260508T100000Z
SUMMARY:Keys Gone Wild
DESCRIPTION:Event details: https://theespy.oztix.com.au/outlet/event/38c1cfaa-1ef2-4252-8c98-562ec356e57f
LOCATION:The Espy (St Kilda, VIC)
END:VEVENT
END:VCALENDAR